BEGIN:VCALENDAR
VERSION:2.0
PRODID:-//Plone.org//NONSGML plone.app.event//EN
X-WR-TIMEZONE:Europe/Madrid
BEGIN:VEVENT
SUMMARY:25N. Acte institucional i espectacle teatral &ldquo;La superbleda&rdquo;
DTSTART;TZID=Europe/Madrid;VALUE=DATE-TIME:20231125T110000
DTEND;TZID=Europe/Madrid;VALUE=DATE-TIME:20231125T120000
DTSTAMP;VALUE=DATE-TIME:20260426T045710Z
UID:0c8c1eb86bbd554c4f866d206f24dd9c
CREATED;VALUE=DATE-TIME:20231125T000000Z
CATEGORIES:Espectacles,Jornades
LOCATION:Plaça de l'Ajuntament - Plaça de l'Ajuntament, s/n. 08328 Alella
ORGANIZER:Ajuntament d'Alella
URL:https://www.mynerva.net/ajalella/document.php?id=20494
END:VEVENT
END:VCALENDAR