BEGIN:VCALENDAR
VERSION:2.0
PRODID:-//Plone.org//NONSGML plone.app.event//EN
X-WR-TIMEZONE:Europe/Madrid
BEGIN:VEVENT
SUMMARY:Didaltruck
DTSTART;TZID=Europe/Madrid;VALUE=DATE-TIME:20231111T103000
DTEND;TZID=Europe/Madrid;VALUE=DATE-TIME:20231111T113000
DTSTAMP;VALUE=DATE-TIME:20260426T045550Z
UID:f8e64e00687616f63db6191144bdf003
CREATED;VALUE=DATE-TIME:20231111T000000Z
CATEGORIES:Jornades
LOCATION:Plaça d'Antoni Pujadas - Plaça d'Antoni Pujadas. 08328 Alella
ORGANIZER:Regidoria de Medi Ambient i Sostenibilitat
COMMENT:Preu: Gratuït
Durada: 10:30-13:30h
DESCRIPTION:T'ensenyarem a arranjar i transformar la teva roba
URL:https://www.mynerva.net/ajalella/document.php?id=20527
END:VEVENT
END:VCALENDAR