BEGIN:VCALENDAR
VERSION:2.0
PRODID:-//Plone.org//NONSGML plone.app.event//EN
X-WR-TIMEZONE:Europe/Madrid
BEGIN:VEVENT
SUMMARY:Taller de cuina de reaprofitament
DTSTART;TZID=Europe/Madrid;VALUE=DATE-TIME:20231118T110000
DTEND;TZID=Europe/Madrid;VALUE=DATE-TIME:20231118T120000
DTSTAMP;VALUE=DATE-TIME:20260426T045648Z
UID:1d652424776c5bea21e719f618eda01c
CREATED;VALUE=DATE-TIME:20231118T000000Z
CATEGORIES:Tertúlies,Jornades,Cursos
LOCATION:Centre Cultural de Can Lleonart
ORGANIZER:Ajuntament d'Alella
COMMENT:Preu: Gratuït
Durada: 11-13h
URL:https://www.mynerva.net/ajalella/document.php?id=20556
END:VEVENT
END:VCALENDAR