BEGIN:VCALENDAR
VERSION:2.0
PRODID:-//Plone.org//NONSGML plone.app.event//EN
X-WR-TIMEZONE:Europe/Madrid
BEGIN:VEVENT
SUMMARY:Taller d'introducció al compostatge casolà
DTSTART;TZID=Europe/Madrid;VALUE=DATE-TIME:20231124T110000
DTEND;TZID=Europe/Madrid;VALUE=DATE-TIME:20231124T120000
DTSTAMP;VALUE=DATE-TIME:20260426T045310Z
UID:4d91f21e02bc785b4078acf94307d0c5
CREATED;VALUE=DATE-TIME:20231124T000000Z
CATEGORIES:Jornades,Cursos
LOCATION:Centre Cultural de Can Lleonart - Plaça dels Germans Lleonart, 1 08328 Alella
ORGANIZER:Ajuntament d'Alella
COMMENT:Preu: Gratuït
Durada: 11-13h
DESCRIPTION:El taller es durà a terme el divendres 24 de novembre a les 11h a Can Lleonart
URL:https://www.mynerva.net/ajalella/document.php?id=20557
END:VEVENT
END:VCALENDAR