BEGIN:VCALENDAR
VERSION:2.0
PRODID:-//Plone.org//NONSGML plone.app.event//EN
X-WR-TIMEZONE:Europe/Madrid
BEGIN:VEVENT
SUMMARY:Cinema. O Corno
DTSTART;TZID=Europe/Madrid;VALUE=DATE-TIME:20231118T190000
DTEND;TZID=Europe/Madrid;VALUE=DATE-TIME:20231118T200000
DTSTAMP;VALUE=DATE-TIME:20260426T062602Z
UID:37d20e63da94e461e5b402342bee51b6
CREATED;VALUE=DATE-TIME:20231118T000000Z
CATEGORIES:Cinema
LOCATION:Espai d'Arts Escèniques Casal d'Alella - Carrer de Santa Teresa, 9 08328 Alella
ORGANIZER:Ajuntament d'Alella
COMMENT:Preu: Feiners i Festius: 6,5    Dia de preu reduït: 4,50
Durada: Dissabte 18 de novembre a les 19h i dilluns 20 de novembre a les 18h
URL:https://www.mynerva.net/ajalella/document.php?id=20648
END:VEVENT
END:VCALENDAR