BEGIN:VCALENDAR
VERSION:2.0
PRODID:-//Plone.org//NONSGML plone.app.event//EN
X-WR-TIMEZONE:Europe/Madrid
BEGIN:VEVENT
SUMMARY:Agenda esportiva Pavelló Municipal d'Esport i Camp d'Esports Municipal
DTSTART;TZID=Europe/Madrid;VALUE=DATE-TIME:20231125T090000
DTEND;TZID=Europe/Madrid;VALUE=DATE-TIME:20231125T100000
DTSTAMP;VALUE=DATE-TIME:20260426T045510Z
UID:bd896e9323f22fa96d089f24a089770f
CREATED;VALUE=DATE-TIME:20231125T000000Z
CATEGORIES:Familiars,Joves,Esports
LOCATION:Pavelló d'Esports Municipal i Camp d'Esports Municipal
URL:https://www.mynerva.net/ajalella/document.php?id=20694
END:VEVENT
END:VCALENDAR