BEGIN:VCALENDAR
VERSION:2.0
PRODID:-//Plone.org//NONSGML plone.app.event//EN
X-WR-TIMEZONE:Europe/Madrid
BEGIN:VEVENT
SUMMARY:Agenda esportiva Pavelló Municipal d'Esport i Camp d'Esports Municipal
DTSTART;TZID=Europe/Madrid;VALUE=DATE-TIME:20240217T090000
DTEND;TZID=Europe/Madrid;VALUE=DATE-TIME:20240217T100000
DTSTAMP;VALUE=DATE-TIME:20260424T185426Z
UID:30cd78deb2074c5931f2a705e29640ab
CREATED;VALUE=DATE-TIME:20240217T000000Z
CATEGORIES:Familiars,Joves,Esports
LOCATION:Pavelló d'Esports Municipal i Camp d'Esports Municipal
URL:https://www.mynerva.net/ajalella/document.php?id=21357
END:VEVENT
END:VCALENDAR