BEGIN:VCALENDAR
VERSION:2.0
PRODID:-//Plone.org//NONSGML plone.app.event//EN
X-WR-TIMEZONE:Europe/Madrid
BEGIN:VEVENT
SUMMARY:Benvinguda presentació nou model d'atenció integrada - Drets Socials i Salut
DTSTART;TZID=Europe/Madrid;VALUE=DATE-TIME:20240313T093000
DTEND;TZID=Europe/Madrid;VALUE=DATE-TIME:20240313T103000
DTSTAMP;VALUE=DATE-TIME:20260420T213637Z
UID:4ae257f9f5fe888967ffca07dba11fa0
CREATED;VALUE=DATE-TIME:20240313T000000Z
CATEGORIES:Agenda institucional
LOCATION:EAE
URL:https://www.mynerva.net/ajalella/document.php?id=21457
END:VEVENT
END:VCALENDAR