BEGIN:VCALENDAR
VERSION:2.0
PRODID:-//Plone.org//NONSGML plone.app.event//EN
X-WR-TIMEZONE:Europe/Madrid
BEGIN:VEVENT
SUMMARY:Servei Territorial d'Urbanisme de l'Arc Metropolità de Barcelona
DTSTART;TZID=Europe/Madrid;VALUE=DATE-TIME:20240313T123000
DTEND;TZID=Europe/Madrid;VALUE=DATE-TIME:20240313T133000
DTSTAMP;VALUE=DATE-TIME:20260420T213411Z
UID:cbf60b525326833be513bb30f9c90139
CREATED;VALUE=DATE-TIME:20240313T000000Z
CATEGORIES:Agenda institucional
LOCATION:Aragó 244 - 248 Barcelona
DESCRIPTION:Sr. Joan Passola
URL:https://www.mynerva.net/ajalella/document.php?id=21458
END:VEVENT
END:VCALENDAR