BEGIN:VCALENDAR
VERSION:2.0
PRODID:-//Plone.org//NONSGML plone.app.event//EN
X-WR-TIMEZONE:Europe/Madrid
BEGIN:VEVENT
SUMMARY:Reunió presentació projecte coberta exterior Pavelló Municipal d'Esports - entitats
DTSTART;TZID=Europe/Madrid;VALUE=DATE-TIME:20240313T193000
DTEND;TZID=Europe/Madrid;VALUE=DATE-TIME:20240313T203000
DTSTAMP;VALUE=DATE-TIME:20260420T225245Z
UID:ad096368cc891608da63174d5d7f152d
CREATED;VALUE=DATE-TIME:20240313T000000Z
CATEGORIES:Agenda institucional
LOCATION:Sala Plens
URL:https://www.mynerva.net/ajalella/document.php?id=21459
END:VEVENT
END:VCALENDAR