BEGIN:VCALENDAR
VERSION:2.0
PRODID:-//Plone.org//NONSGML plone.app.event//EN
X-WR-TIMEZONE:Europe/Madrid
BEGIN:VEVENT
SUMMARY:Reunió amb l'Associació de Can Comulada
DTSTART;TZID=Europe/Madrid;VALUE=DATE-TIME:20240312T190000
DTEND;TZID=Europe/Madrid;VALUE=DATE-TIME:20240312T200000
DTSTAMP;VALUE=DATE-TIME:20260420T213324Z
UID:b3b5b61725d5532625a6c684b14b8470
CREATED;VALUE=DATE-TIME:20240312T000000Z
CATEGORIES:Agenda institucional
LOCATION:Alcaldia
URL:https://www.mynerva.net/ajalella/document.php?id=21461
END:VEVENT
END:VCALENDAR