BEGIN:VCALENDAR
VERSION:2.0
PRODID:-//Plone.org//NONSGML plone.app.event//EN
X-WR-TIMEZONE:Europe/Madrid
BEGIN:VEVENT
SUMMARY:Junta de Govern Local
DTSTART;TZID=Europe/Madrid;VALUE=DATE-TIME:20240314T183000
DTEND;TZID=Europe/Madrid;VALUE=DATE-TIME:20240314T193000
DTSTAMP;VALUE=DATE-TIME:20260420T213510Z
UID:ab63ed111e73a6743d4bf92387b44c7f
CREATED;VALUE=DATE-TIME:20240314T000000Z
CATEGORIES:Agenda institucional
LOCATION:Sala Plens
URL:https://www.mynerva.net/ajalella/document.php?id=21462
END:VEVENT
END:VCALENDAR