BEGIN:VCALENDAR
VERSION:2.0
PRODID:-//Plone.org//NONSGML plone.app.event//EN
X-WR-TIMEZONE:Europe/Madrid
BEGIN:VEVENT
SUMMARY:Reunió Jutgessa de Pau d'Alella
DTSTART;TZID=Europe/Madrid;VALUE=DATE-TIME:20240315T100000
DTEND;TZID=Europe/Madrid;VALUE=DATE-TIME:20240315T110000
DTSTAMP;VALUE=DATE-TIME:20260420T213503Z
UID:82ad1ea348222096e416f903981e877a
CREATED;VALUE=DATE-TIME:20240315T000000Z
CATEGORIES:Agenda institucional
LOCATION:Alcaldia
URL:https://www.mynerva.net/ajalella/document.php?id=21463
END:VEVENT
END:VCALENDAR