BEGIN:VCALENDAR
VERSION:2.0
PRODID:-//Plone.org//NONSGML plone.app.event//EN
X-WR-TIMEZONE:Europe/Madrid
BEGIN:VEVENT
SUMMARY:Consell d'Alcaldes del Maresme
DTSTART;TZID=Europe/Madrid;VALUE=DATE-TIME:20240315T130000
DTEND;TZID=Europe/Madrid;VALUE=DATE-TIME:20240315T140000
DTSTAMP;VALUE=DATE-TIME:20260420T213329Z
UID:7a43a5fcd662e80361a3641ebf30596c
CREATED;VALUE=DATE-TIME:20240315T000000Z
CATEGORIES:Agenda institucional
LOCATION:Centre Cívic Cabot i Barba de Mataró
URL:https://www.mynerva.net/ajalella/document.php?id=21464
END:VEVENT
END:VCALENDAR