BEGIN:VCALENDAR
VERSION:2.0
PRODID:-//Plone.org//NONSGML plone.app.event//EN
X-WR-TIMEZONE:Europe/Madrid
BEGIN:VEVENT
SUMMARY:Reunió entitat - CF Alella
DTSTART;TZID=Europe/Madrid;VALUE=DATE-TIME:20240312T180000
DTEND;TZID=Europe/Madrid;VALUE=DATE-TIME:20240312T190000
DTSTAMP;VALUE=DATE-TIME:20260420T213557Z
UID:1f6c06b6ec63f85a5927dcfb4c64de50
CREATED;VALUE=DATE-TIME:20240312T000000Z
CATEGORIES:Agenda institucional
LOCATION:Alcaldia
URL:https://www.mynerva.net/ajalella/document.php?id=21531
END:VEVENT
END:VCALENDAR