BEGIN:VCALENDAR
VERSION:2.0
PRODID:-//Plone.org//NONSGML plone.app.event//EN
X-WR-TIMEZONE:Europe/Madrid
BEGIN:VEVENT
SUMMARY:I tu, què hi pintes a Alella?
DTSTART;TZID=Europe/Madrid;VALUE=DATE-TIME:20240405T170000
DTEND;TZID=Europe/Madrid;VALUE=DATE-TIME:20240405T180000
DTSTAMP;VALUE=DATE-TIME:20260422T035733Z
UID:25b04a9e70a2c5e61abf03323b6a0c1f
CREATED;VALUE=DATE-TIME:20240405T000000Z
CATEGORIES:Jornades,Familiars
LOCATION:Àgora - Avinguda Ferran Fabra, 1 08328
ORGANIZER:Ajuntament d'Alella
URL:https://www.mynerva.net/ajalella/document.php?id=21586
END:VEVENT
END:VCALENDAR