BEGIN:VCALENDAR
VERSION:2.0
PRODID:-//Plone.org//NONSGML plone.app.event//EN
X-WR-TIMEZONE:Europe/Madrid
BEGIN:VEVENT
SUMMARY:Assistència i lectura al recital de poemes - Espais de Poesia
DTSTART;TZID=Europe/Madrid;VALUE=DATE-TIME:20240407T110000
DTEND;TZID=Europe/Madrid;VALUE=DATE-TIME:20240407T120000
DTSTAMP;VALUE=DATE-TIME:20260419T165215Z
UID:cc45264d4ba973cbf8290e1933ba9f13
CREATED;VALUE=DATE-TIME:20240407T000000Z
CATEGORIES:Agenda institucional
LOCATION:Placeta de Can Patatina
URL:https://www.mynerva.net/ajalella/document.php?id=21618
END:VEVENT
END:VCALENDAR