BEGIN:VCALENDAR
VERSION:2.0
PRODID:-//Plone.org//NONSGML plone.app.event//EN
X-WR-TIMEZONE:Europe/Madrid
BEGIN:VEVENT
SUMMARY:Cinema. Kung Fu Panda 4
DTSTART;TZID=Europe/Madrid;VALUE=DATE-TIME:20240406T170000
DTEND;TZID=Europe/Madrid;VALUE=DATE-TIME:20240406T180000
DTSTAMP;VALUE=DATE-TIME:20260422T035733Z
UID:43ab9ada448be96e8bb18f63f4110c8c
CREATED;VALUE=DATE-TIME:20240406T000000Z
CATEGORIES:Cinema,Familiars
LOCATION:Espai d'Arts Escèniques Casal d'Alella - Carrer de Santa Teresa, 9 08328 Alella
ORGANIZER:Ajuntament d'Alella
COMMENT:Preu: Feiners i Festius: 6,5    Dia de preu reduït: 4,50
Durada: Dissabte 6 d'abril a les 17h i diumenge 7 d'abril a les 17h
URL:https://www.mynerva.net/ajalella/document.php?id=21640
END:VEVENT
END:VCALENDAR