BEGIN:VCALENDAR
VERSION:2.0
PRODID:-//Plone.org//NONSGML plone.app.event//EN
X-WR-TIMEZONE:Europe/Madrid
BEGIN:VEVENT
SUMMARY:Cinema. Radical
DTSTART;TZID=Europe/Madrid;VALUE=DATE-TIME:20240406T185000
DTEND;TZID=Europe/Madrid;VALUE=DATE-TIME:20240406T195000
DTSTAMP;VALUE=DATE-TIME:20260422T083805Z
UID:da2d4927ff0690520fa80c5dff8504ad
CREATED;VALUE=DATE-TIME:20240406T000000Z
CATEGORIES:Cinema
LOCATION:Espai d'Arts Escèniques Casal d'Alella - Carrer de Santa Teresa, 9 08328 Alella
ORGANIZER:Ajuntament d'Alella
COMMENT:Preu: Feiners i Festius: 6,5    Dia de preu reduït: 4,50
Durada: Dissabte 6 d'abril a les 18:50h, diumenge 7 d'abril a les 18:50h i dilluns 8 d'abril a les 18h
URL:https://www.mynerva.net/ajalella/document.php?id=21644
END:VEVENT
END:VCALENDAR