BEGIN:VCALENDAR
VERSION:2.0
PRODID:-//Plone.org//NONSGML plone.app.event//EN
X-WR-TIMEZONE:Europe/Madrid
BEGIN:VEVENT
SUMMARY:Concert de swing amb Engine Sweet Trio
DTSTART;TZID=Europe/Madrid;VALUE=DATE-TIME:20240406T220000
DTEND;TZID=Europe/Madrid;VALUE=DATE-TIME:20240406T230000
DTSTAMP;VALUE=DATE-TIME:20260422T070024Z
UID:eefeed9bbc86416781dd73e72a73ee5d
CREATED;VALUE=DATE-TIME:20240406T000000Z
CATEGORIES:Música
LOCATION:Espai social Casal d'Alella
ORGANIZER:Associació Casal d'Alella
COMMENT:Preu: Taquilla inversa
Durada: de 22.00h a 24.00h
URL:https://www.mynerva.net/ajalella/document.php?id=21679
END:VEVENT
END:VCALENDAR