BEGIN:VCALENDAR
VERSION:2.0
PRODID:-//Plone.org//NONSGML plone.app.event//EN
X-WR-TIMEZONE:Europe/Madrid
BEGIN:VEVENT
SUMMARY:Espais de Poesia. Club de lectura. Tot passa baix
DTSTART;TZID=Europe/Madrid;VALUE=DATE-TIME:20240404T193000
DTEND;TZID=Europe/Madrid;VALUE=DATE-TIME:20240404T203000
DTSTAMP;VALUE=DATE-TIME:20260422T035312Z
UID:736b7f15b8185eba7f841a6e95ebe135
CREATED;VALUE=DATE-TIME:20240404T000000Z
CATEGORIES:Literatura
LOCATION:Biblioteca Municipal Ferrer i Guàrdia - Hort de la Rectoria. 08328 Alella
ORGANIZER:Ajuntament d'Alella
URL:https://www.mynerva.net/ajalella/document.php?id=21684
END:VEVENT
END:VCALENDAR