BEGIN:VCALENDAR
VERSION:2.0
PRODID:-//Plone.org//NONSGML plone.app.event//EN
X-WR-TIMEZONE:Europe/Madrid
BEGIN:VEVENT
SUMMARY:Espais de Poesia. Recital. Alella diu Teresa d'Arenys 
DTSTART;TZID=Europe/Madrid;VALUE=DATE-TIME:20240407T113000
DTEND;TZID=Europe/Madrid;VALUE=DATE-TIME:20240407T123000
DTSTAMP;VALUE=DATE-TIME:20260422T070332Z
UID:2c0ff4d14161eae125041dfad8653382
CREATED;VALUE=DATE-TIME:20240407T000000Z
CATEGORIES:Literatura
LOCATION:Plaça de Can Patatina
ORGANIZER:Ajuntament d'Alella
URL:https://www.mynerva.net/ajalella/document.php?id=21685
END:VEVENT
END:VCALENDAR