BEGIN:VCALENDAR
VERSION:2.0
PRODID:-//Plone.org//NONSGML plone.app.event//EN
X-WR-TIMEZONE:Europe/Madrid
BEGIN:VEVENT
SUMMARY:Bus consum
DTSTART;TZID=Europe/Madrid;VALUE=DATE-TIME:20240405T103000
DTEND;TZID=Europe/Madrid;VALUE=DATE-TIME:20240405T113000
DTSTAMP;VALUE=DATE-TIME:20260422T035409Z
UID:fe5ac0f8d9a422318053f6387418539e
CREATED;VALUE=DATE-TIME:20240405T000000Z
CATEGORIES:Jornades
LOCATION:Aparcament de davant de Can Lleonart
ORGANIZER:Ajuntament d'Alella i Diputació de Barcelona
URL:https://www.mynerva.net/ajalella/document.php?id=21697
END:VEVENT
END:VCALENDAR