BEGIN:VCALENDAR
VERSION:2.0
PRODID:-//Plone.org//NONSGML plone.app.event//EN
X-WR-TIMEZONE:Europe/Madrid
BEGIN:VEVENT
SUMMARY:Reunió amb la regidora de Promoció Econòmica i Turisme del Masnou Sra. Maria Llarás Vázquez
DTSTART;TZID=Europe/Madrid;VALUE=DATE-TIME:20240405T090000
DTEND;TZID=Europe/Madrid;VALUE=DATE-TIME:20240405T100000
DTSTAMP;VALUE=DATE-TIME:20260419T164900Z
UID:a54c3dfacf63b032cec1975bec4fba31
CREATED;VALUE=DATE-TIME:20240405T000000Z
CATEGORIES:Agenda institucional
LOCATION:Centre d'Empreses Casa del Marquès del Masnou
DESCRIPTION:Assistència la regidora de Promoció Econòmica, Emprenedoria i Comerç i Ocupació d'Alella Sra. Montserrat Gismero Elvira
URL:https://www.mynerva.net/ajalella/document.php?id=21708
END:VEVENT
END:VCALENDAR