BEGIN:VCALENDAR
VERSION:2.0
PRODID:-//Plone.org//NONSGML plone.app.event//EN
X-WR-TIMEZONE:Europe/Madrid
BEGIN:VEVENT
SUMMARY:Junta de Govern Local
DTSTART;TZID=Europe/Madrid;VALUE=DATE-TIME:20240411T183000
DTEND;TZID=Europe/Madrid;VALUE=DATE-TIME:20240411T193000
DTSTAMP;VALUE=DATE-TIME:20260419T200447Z
UID:d04aab9c3bc2ed60bba8479a347f5eab
CREATED;VALUE=DATE-TIME:20240411T000000Z
CATEGORIES:Agenda institucional
LOCATION:Sala de Plens
URL:https://www.mynerva.net/ajalella/document.php?id=21725
END:VEVENT
END:VCALENDAR