BEGIN:VCALENDAR
VERSION:2.0
PRODID:-//Plone.org//NONSGML plone.app.event//EN
X-WR-TIMEZONE:Europe/Madrid
BEGIN:VEVENT
SUMMARY:Correllengua
Coral romput, un poema de Vicent Andrés Estellés musicat per Toti Soler
DTSTART;TZID=Europe/Madrid;VALUE=DATE-TIME:20241124T183000
DTEND;TZID=Europe/Madrid;VALUE=DATE-TIME:20241124T193000
DTSTAMP;VALUE=DATE-TIME:20260424T042944Z
UID:3a9042c50f6286f32010ec44c83144bb
CREATED;VALUE=DATE-TIME:20241124T000000Z
CATEGORIES:Espectacles,Música,Literatura
LOCATION:Espai d'Arts Escèniques Casal d'Alella - Carrer de Santa Teresa, 9 08328 Alella
ORGANIZER:Ajuntament d'Alella
COMMENT:Preu: Entre 10 i 12 &#128;
Durada: 60 minuts
DESCRIPTION:Amb Pere Arquillué i  el guitarrista Carlos Coronado
COMPRA D'ENTRADES

URL:https://www.mynerva.net/ajalella/document.php?id=22618
END:VEVENT
END:VCALENDAR