BEGIN:VCALENDAR
VERSION:2.0
PRODID:-//Plone.org//NONSGML plone.app.event//EN
X-WR-TIMEZONE:Europe/Madrid
BEGIN:VEVENT
SUMMARY:Mercat infantil i juvenil de 2a mà
DTSTART;TZID=Europe/Madrid;VALUE=DATE-TIME:20241124T100000
DTEND;TZID=Europe/Madrid;VALUE=DATE-TIME:20241124T110000
DTSTAMP;VALUE=DATE-TIME:20260424T060507Z
UID:3421a959cc7e955183c8129f95af764e
CREATED;VALUE=DATE-TIME:20241124T000000Z
CATEGORIES:Familiars
LOCATION:Plaça d'Antoni Pujadas - Plaça d'Antoni Pujadas. 08328 Alella
ORGANIZER:AFA Escola Fabra i AFA Escola La Serreta amb la col·laboració de l'Ajuntament
COMMENT:Preu: 3 euros per família
Durada: 10 a 14 h
DESCRIPTION:Setmana europea de prevenció de residus
URL:https://www.mynerva.net/ajalella/document.php?id=22879
END:VEVENT
END:VCALENDAR