BEGIN:VCALENDAR
VERSION:2.0
PRODID:-//Plone.org//NONSGML plone.app.event//EN
X-WR-TIMEZONE:Europe/Madrid
BEGIN:VEVENT
SUMMARY:Exposició "Algunes imatges poden alterar la sensibilitat de l'espectador"
DTSTART;TZID=Europe/Madrid;VALUE=DATE-TIME:20250309T110000
DTEND;TZID=Europe/Madrid;VALUE=DATE-TIME:20250309T120000
DTSTAMP;VALUE=DATE-TIME:20260420T030854Z
UID:6a05932dd9664f9fdea82d5101ac3643
CREATED;VALUE=DATE-TIME:20250117T000000Z
CATEGORIES:Exposició
LOCATION:Can Manyé. Espai d'art i creació - Riera Coma Fosca 42. 08328 Alella
ORGANIZER:Ajuntament d'Alella
COMMENT:Preu: gratuït
Durada: Fins el 9 de març
DESCRIPTION:Exposició col·lectiva de les artistes Mariya Alipieva, Núria Guerra i Laura Torres Bauzà
URL:https://www.mynerva.net/ajalella/document.php?id=23241
END:VEVENT
END:VCALENDAR