BEGIN:VCALENDAR
VERSION:2.0
PRODID:-//Plone.org//NONSGML plone.app.event//EN
X-WR-TIMEZONE:Europe/Madrid
BEGIN:VEVENT
SUMMARY:Espais de Poesia. Música. Consideracions sobre l'inevitable ressonar
DTSTART;TZID=Europe/Madrid;VALUE=DATE-TIME:20250405T190000
DTEND;TZID=Europe/Madrid;VALUE=DATE-TIME:20250405T200000
DTSTAMP;VALUE=DATE-TIME:20260424T005817Z
UID:a4e31ee51987f7a7ecd7952e5fcfc6e9
CREATED;VALUE=DATE-TIME:20250405T000000Z
CATEGORIES:Espectacles,Música
LOCATION:Espai d'Arts Escèniques Casal d'Alella - Carrer de Santa Teresa, 9 08328 Alella
ORGANIZER:Ajuntament d'Alella
COMMENT:Preu: Entre 7,5&#128; i 9&#128;
Durada: 60 min.
DESCRIPTION:COMPRA D'ENTRADES
URL:https://www.mynerva.net/ajalella/document.php?id=23316
END:VEVENT
END:VCALENDAR