BEGIN:VCALENDAR
VERSION:2.0
PRODID:-//Plone.org//NONSGML plone.app.event//EN
X-WR-TIMEZONE:Europe/Madrid
BEGIN:VEVENT
SUMMARY:Sortida patrimoni. La Guerra Civil al Maresme
DTSTART;TZID=Europe/Madrid;VALUE=DATE-TIME:20250209T103000
DTEND;TZID=Europe/Madrid;VALUE=DATE-TIME:20250209T113000
DTSTAMP;VALUE=DATE-TIME:20260423T121744Z
UID:610c858ba67eb01fcec040c4c2c354ae
CREATED;VALUE=DATE-TIME:20250209T000000Z
CATEGORIES:Sortides
LOCATION:Oficina de Turisme - Oficina de Turisme d'Alella 
ORGANIZER:Ajuntament d'Alella
COMMENT:Preu: 7&#128;
Durada: 3h
DESCRIPTION:Comprar entrades
URL:https://www.mynerva.net/ajalella/document.php?id=23392
END:VEVENT
END:VCALENDAR