BEGIN:VCALENDAR
VERSION:2.0
PRODID:-//Plone.org//NONSGML plone.app.event//EN
X-WR-TIMEZONE:Europe/Madrid
BEGIN:VEVENT
SUMMARY:Signatura contracte treball laboral operari ofici laboral interí
DTSTART;TZID=Europe/Madrid;VALUE=DATE-TIME:20250203T090000
DTEND;TZID=Europe/Madrid;VALUE=DATE-TIME:20250203T100000
DTSTAMP;VALUE=DATE-TIME:20260420T201845Z
UID:08d1efc4128b55aa33582c706db256be
CREATED;VALUE=DATE-TIME:20250203T000000Z
CATEGORIES:Agenda institucional
LOCATION:Alcaldia
URL:https://www.mynerva.net/ajalella/document.php?id=23671
END:VEVENT
END:VCALENDAR