BEGIN:VCALENDAR
VERSION:2.0
PRODID:-//Plone.org//NONSGML plone.app.event//EN
X-WR-TIMEZONE:Europe/Madrid
BEGIN:VEVENT
SUMMARY:Reunió amb les alcaldies de El Masnou i de Teià
DTSTART;TZID=Europe/Madrid;VALUE=DATE-TIME:20250203T120000
DTEND;TZID=Europe/Madrid;VALUE=DATE-TIME:20250203T130000
DTSTAMP;VALUE=DATE-TIME:20260420T202124Z
UID:2ded85d113595b59983ad1bb6dfb895f
CREATED;VALUE=DATE-TIME:20250203T000000Z
CATEGORIES:Agenda institucional
LOCATION:Ajuntament de Teià
DESCRIPTION:Els nous anllaços C32
URL:https://www.mynerva.net/ajalella/document.php?id=23672
END:VEVENT
END:VCALENDAR