BEGIN:VCALENDAR
VERSION:2.0
PRODID:-//Plone.org//NONSGML plone.app.event//EN
X-WR-TIMEZONE:Europe/Madrid
BEGIN:VEVENT
SUMMARY:Formació en la comunicació i acompanyament a persones que es troben en situació de demència
DTSTART;TZID=Europe/Madrid;VALUE=DATE-TIME:20250327T180000
DTEND;TZID=Europe/Madrid;VALUE=DATE-TIME:20250327T190000
DTSTAMP;VALUE=DATE-TIME:20260424T140836Z
UID:adf284180245cf9ac5f0aadf757fd94a
CREATED;VALUE=DATE-TIME:20250327T000000Z
CATEGORIES:
LOCATION:Antigues Escoles Fabra - Avinguda Ferran Fabra, 1 08328
ORGANIZER:Associació Alella Poble Cuidador
COMMENT:Preu: Gratuït
URL:https://www.mynerva.net/ajalella/document.php?id=23993
END:VEVENT
END:VCALENDAR