BEGIN:VCALENDAR
VERSION:2.0
PRODID:-//Plone.org//NONSGML plone.app.event//EN
X-WR-TIMEZONE:Europe/Madrid
BEGIN:VEVENT
SUMMARY:Agenda d'activitats esportives del cap de setmana
DTSTART;TZID=Europe/Madrid;VALUE=DATE-TIME:20250405T090000
DTEND;TZID=Europe/Madrid;VALUE=DATE-TIME:20250405T100000
DTSTAMP;VALUE=DATE-TIME:20260424T005242Z
UID:724d679857470fba1ff37e94eddb3dcc
CREATED;VALUE=DATE-TIME:20250405T000000Z
CATEGORIES:Esports
LOCATION:Pavelló d'Esports Municipal Abelardo Vera i Camp d'Esport Municipal
URL:https://www.mynerva.net/ajalella/document.php?id=24077
END:VEVENT
END:VCALENDAR