BEGIN:VCALENDAR
VERSION:2.0
PRODID:-//Plone.org//NONSGML plone.app.event//EN
X-WR-TIMEZONE:Europe/Madrid
BEGIN:VEVENT
SUMMARY:Reunió amb Fundació Ferrer i Guardia
DTSTART;TZID=Europe/Madrid;VALUE=DATE-TIME:20251031T110000
DTEND;TZID=Europe/Madrid;VALUE=DATE-TIME:20251031T120000
DTSTAMP;VALUE=DATE-TIME:20260420T172121Z
UID:d7a1dfb1fe0bbcfd0a7e1759de566c4b
CREATED;VALUE=DATE-TIME:20251031T000000Z
CATEGORIES:Agenda institucional
LOCATION:---
URL:https://www.mynerva.net/ajalella/document.php?id=25101
END:VEVENT
END:VCALENDAR