BEGIN:VCALENDAR
VERSION:2.0
PRODID:-//Plone.org//NONSGML plone.app.event//EN
X-WR-TIMEZONE:Europe/Madrid
BEGIN:VEVENT
SUMMARY:Reunió comissió seguiment Eurofitness Alella - UFEC
DTSTART;TZID=Europe/Madrid;VALUE=DATE-TIME:20251104T123000
DTEND;TZID=Europe/Madrid;VALUE=DATE-TIME:20251104T133000
DTSTAMP;VALUE=DATE-TIME:20260420T160551Z
UID:7067e81ec9afcd80a3b647801d2c53ae
CREATED;VALUE=DATE-TIME:20251104T000000Z
CATEGORIES:Agenda institucional
LOCATION:Alcaldia
URL:https://www.mynerva.net/ajalella/document.php?id=25127
END:VEVENT
END:VCALENDAR