BEGIN:VCALENDAR
VERSION:2.0
PRODID:-//Plone.org//NONSGML plone.app.event//EN
X-WR-TIMEZONE:Europe/Madrid
BEGIN:VEVENT
SUMMARY:Acte d'inaguració de les 5ès Jornades de Salut Mental
DTSTART;TZID=Europe/Madrid;VALUE=DATE-TIME:20251105T093000
DTEND;TZID=Europe/Madrid;VALUE=DATE-TIME:20251105T103000
DTSTAMP;VALUE=DATE-TIME:20260420T172001Z
UID:5dd18c8f107b196df2847351c0aa7992
CREATED;VALUE=DATE-TIME:20251105T000000Z
CATEGORIES:Agenda institucional
LOCATION:Espai d'Arts Escèniques
URL:https://www.mynerva.net/ajalella/document.php?id=25134
END:VEVENT
END:VCALENDAR