BEGIN:VCALENDAR
VERSION:2.0
PRODID:-//Plone.org//NONSGML plone.app.event//EN
X-WR-TIMEZONE:Europe/Madrid
BEGIN:VEVENT
SUMMARY:Junta de Govern Local
DTSTART;TZID=Europe/Madrid;VALUE=DATE-TIME:20251106T183000
DTEND;TZID=Europe/Madrid;VALUE=DATE-TIME:20251106T193000
DTSTAMP;VALUE=DATE-TIME:20260420T161739Z
UID:148955998352a7676b96b2405afeb50f
CREATED;VALUE=DATE-TIME:20251106T000000Z
CATEGORIES:Agenda institucional
LOCATION:Sala de Plens
URL:https://www.mynerva.net/ajalella/document.php?id=25135
END:VEVENT
END:VCALENDAR