BEGIN:VCALENDAR
VERSION:2.0
PRODID:-//Plone.org//NONSGML plone.app.event//EN
X-WR-TIMEZONE:Europe/Madrid
BEGIN:VEVENT
SUMMARY:Alcalde als barris - Alella Parc (parada del bus)
DTSTART;TZID=Europe/Madrid;VALUE=DATE-TIME:20251107T090000
DTEND;TZID=Europe/Madrid;VALUE=DATE-TIME:20251107T100000
DTSTAMP;VALUE=DATE-TIME:20260420T160845Z
UID:a2909bfa2077652a2aab6274d6a935dc
CREATED;VALUE=DATE-TIME:20251107T000000Z
CATEGORIES:Agenda institucional
LOCATION:Entrada d'Alella
URL:https://www.mynerva.net/ajalella/document.php?id=25136
END:VEVENT
END:VCALENDAR