BEGIN:VCALENDAR
VERSION:2.0
PRODID:-//Plone.org//NONSGML plone.app.event//EN
X-WR-TIMEZONE:Europe/Madrid
BEGIN:VEVENT
SUMMARY:Consell d'Alcaldies del Maresme
DTSTART;TZID=Europe/Madrid;VALUE=DATE-TIME:20251107T120000
DTEND;TZID=Europe/Madrid;VALUE=DATE-TIME:20251107T130000
DTSTAMP;VALUE=DATE-TIME:20260420T172401Z
UID:47991b1d74ce4ff8e380c15a4eebc65c
CREATED;VALUE=DATE-TIME:20251107T000000Z
CATEGORIES:Agenda institucional
LOCATION:Mataró
URL:https://www.mynerva.net/ajalella/document.php?id=25137
END:VEVENT
END:VCALENDAR