BEGIN:VCALENDAR
VERSION:2.0
PRODID:-//Plone.org//NONSGML plone.app.event//EN
X-WR-TIMEZONE:Europe/Madrid
BEGIN:VEVENT
SUMMARY:Presentació Catàleg Serveis Diputació de Barcelona 2026 per a l'àrea de Cultura
DTSTART;TZID=Europe/Madrid;VALUE=DATE-TIME:20251110T100000
DTEND;TZID=Europe/Madrid;VALUE=DATE-TIME:20251110T110000
DTSTAMP;VALUE=DATE-TIME:20260420T204021Z
UID:bc7cc7218cf30bcd2d61ae5bc92af2e9
CREATED;VALUE=DATE-TIME:20251110T000000Z
CATEGORIES:Agenda institucional
LOCATION:Centre d'Estudis i Recursos Culturals
ORGANIZER:Cultura Diputació de Barcelona
URL:https://www.mynerva.net/ajalella/document.php?id=25155
END:VEVENT
END:VCALENDAR