BEGIN:VCALENDAR
VERSION:2.0
PRODID:-//Plone.org//NONSGML plone.app.event//EN
X-WR-TIMEZONE:Europe/Madrid
BEGIN:VEVENT
SUMMARY:Junta General Extraordinària del Consorci de Promoció Turística Costa del Maresme
DTSTART;TZID=Europe/Madrid;VALUE=DATE-TIME:20251107T093000
DTEND;TZID=Europe/Madrid;VALUE=DATE-TIME:20251107T103000
DTSTAMP;VALUE=DATE-TIME:20260420T160838Z
UID:6527a0c8bba051c121f2203f79a12009
CREATED;VALUE=DATE-TIME:20251107T000000Z
CATEGORIES:Agenda institucional
LOCATION:Telemàtica
ORGANIZER:Consorci de Promoció Turística Costa del Maresme
URL:https://www.mynerva.net/ajalella/document.php?id=25156
END:VEVENT
END:VCALENDAR