BEGIN:VCALENDAR
VERSION:2.0
PRODID:-//Plone.org//NONSGML plone.app.event//EN
X-WR-TIMEZONE:Europe/Madrid
BEGIN:VEVENT
SUMMARY:Reunió PAU 14 La Gaietana
DTSTART;TZID=Europe/Madrid;VALUE=DATE-TIME:20251111T100000
DTEND;TZID=Europe/Madrid;VALUE=DATE-TIME:20251111T110000
DTSTAMP;VALUE=DATE-TIME:20260420T193814Z
UID:6e071d8812bc1ceb5c896707b5499b16
CREATED;VALUE=DATE-TIME:20251111T000000Z
CATEGORIES:Agenda institucional
LOCATION:Alcaldia
URL:https://www.mynerva.net/ajalella/document.php?id=25168
END:VEVENT
END:VCALENDAR