BEGIN:VCALENDAR
VERSION:2.0
PRODID:-//Plone.org//NONSGML plone.app.event//EN
X-WR-TIMEZONE:Europe/Madrid
BEGIN:VEVENT
SUMMARY:Reunió casament civil
DTSTART;TZID=Europe/Madrid;VALUE=DATE-TIME:20251111T180000
DTEND;TZID=Europe/Madrid;VALUE=DATE-TIME:20251111T190000
DTSTAMP;VALUE=DATE-TIME:20260420T203929Z
UID:2de33370576b880dfd527c9f43ddbb20
CREATED;VALUE=DATE-TIME:20251111T000000Z
CATEGORIES:Agenda institucional
LOCATION:Alcaldia
URL:https://www.mynerva.net/ajalella/document.php?id=25170
END:VEVENT
END:VCALENDAR