BEGIN:VCALENDAR
VERSION:2.0
PRODID:-//Plone.org//NONSGML plone.app.event//EN
X-WR-TIMEZONE:Europe/Madrid
BEGIN:VEVENT
SUMMARY:Reunió casament civil
DTSTART;TZID=Europe/Madrid;VALUE=DATE-TIME:20251112T133000
DTEND;TZID=Europe/Madrid;VALUE=DATE-TIME:20251112T143000
DTSTAMP;VALUE=DATE-TIME:20260420T194224Z
UID:b5ee3b3f28bd630065178f674a5dac52
CREATED;VALUE=DATE-TIME:20251112T000000Z
CATEGORIES:Agenda institucional
LOCATION:Alcaldia
URL:https://www.mynerva.net/ajalella/document.php?id=25171
END:VEVENT
END:VCALENDAR