BEGIN:VCALENDAR
VERSION:2.0
PRODID:-//Plone.org//NONSGML plone.app.event//EN
X-WR-TIMEZONE:Europe/Madrid
BEGIN:VEVENT
SUMMARY:Assemblea General del Consorci Localret
DTSTART;TZID=Europe/Madrid;VALUE=DATE-TIME:20251117T123000
DTEND;TZID=Europe/Madrid;VALUE=DATE-TIME:20251117T133000
DTSTAMP;VALUE=DATE-TIME:20260420T233352Z
UID:03a1c181a2266531cd8a4d06e4296085
CREATED;VALUE=DATE-TIME:20251117T000000Z
CATEGORIES:Agenda institucional
LOCATION:Espai Mestral del Port Olímpic (Moll de Mestral, S/N, Sant Martí, 08005 Barcelona
DESCRIPTION:Assistència regidor Israel Payà
URL:https://www.mynerva.net/ajalella/document.php?id=25217
END:VEVENT
END:VCALENDAR