BEGIN:VCALENDAR
VERSION:2.0
PRODID:-//Plone.org//NONSGML plone.app.event//EN
X-WR-TIMEZONE:Europe/Madrid
BEGIN:VEVENT
SUMMARY:Benvinguda a la Jornada de la gerència dela Metropolitana nord
DTSTART;TZID=Europe/Madrid;VALUE=DATE-TIME:20251118T090000
DTEND;TZID=Europe/Madrid;VALUE=DATE-TIME:20251118T100000
DTSTAMP;VALUE=DATE-TIME:20260421T003346Z
UID:aada2ae6dc03451f7299a82feb83d753
CREATED;VALUE=DATE-TIME:20251118T000000Z
CATEGORIES:Agenda institucional
LOCATION:Sala Carquefou
URL:https://www.mynerva.net/ajalella/document.php?id=25218
END:VEVENT
END:VCALENDAR