BEGIN:VCALENDAR
VERSION:2.0
PRODID:-//Plone.org//NONSGML plone.app.event//EN
X-WR-TIMEZONE:Europe/Madrid
BEGIN:VEVENT
SUMMARY:Consell Agrari Municipal
DTSTART;TZID=Europe/Madrid;VALUE=DATE-TIME:20251117T170000
DTEND;TZID=Europe/Madrid;VALUE=DATE-TIME:20251117T180000
DTSTAMP;VALUE=DATE-TIME:20260420T232653Z
UID:fa0151a1c88c8b2de80eb67d1d326131
CREATED;VALUE=DATE-TIME:20251117T000000Z
CATEGORIES:Agenda institucional
LOCATION:Centre Cultural de Can Lleonart
URL:https://www.mynerva.net/ajalella/document.php?id=25219
END:VEVENT
END:VCALENDAR