BEGIN:VCALENDAR
VERSION:2.0
PRODID:-//Plone.org//NONSGML plone.app.event//EN
X-WR-TIMEZONE:Europe/Madrid
BEGIN:VEVENT
SUMMARY:1a sessió del Consell d'Infancia curs 2025-2026
DTSTART;TZID=Europe/Madrid;VALUE=DATE-TIME:20251118T173000
DTEND;TZID=Europe/Madrid;VALUE=DATE-TIME:20251118T183000
DTSTAMP;VALUE=DATE-TIME:20260420T233507Z
UID:712f32b8501f3afce6e0c8d127b89c69
CREATED;VALUE=DATE-TIME:20251118T000000Z
CATEGORIES:Agenda institucional
LOCATION:-
URL:https://www.mynerva.net/ajalella/document.php?id=25220
END:VEVENT
END:VCALENDAR