BEGIN:VCALENDAR
VERSION:2.0
PRODID:-//Plone.org//NONSGML plone.app.event//EN
X-WR-TIMEZONE:Europe/Madrid
BEGIN:VEVENT
SUMMARY:Consell Municipal de l'Habitatge Social - CMHS
DTSTART;TZID=Europe/Madrid;VALUE=DATE-TIME:20251118T190000
DTEND;TZID=Europe/Madrid;VALUE=DATE-TIME:20251118T200000
DTSTAMP;VALUE=DATE-TIME:20260420T233428Z
UID:4775ce261e0e88e6234df1f12b456a4a
CREATED;VALUE=DATE-TIME:20251118T000000Z
CATEGORIES:Agenda institucional
LOCATION:Sala de Plens
URL:https://www.mynerva.net/ajalella/document.php?id=25221
END:VEVENT
END:VCALENDAR